BEGIN:VCALENDAR
PRODID:-//Hannon Hill Events//Cascade CMS//EN
VERSION:2.0
X-WR-CALNAME:Research Smartz: Leveraging Your Microsoft Office Access
X-WR-TIMEZONE:America/New_York
BEGIN:VTIMEZONE
TZID:America/New_York
BEGIN:DAYLIGHT
TZOFFSETFROM:-0500
TZOFFSETTO:-0400
TZNAME:EDT
DTSTART:19700308T020000
RRULE:FREQ=YEARLY;BYMONTH=3;BYDAY=2SU
END:DAYLIGHT
BEGIN:STANDARD
TZOFFSETFROM:-0400
TZOFFSETTO:-0500
TZNAME:EST
DTSTART:19701101T020000
RRULE:FREQ=YEARLY;BYMONTH=11;BYDAY=1SU
END:STANDARD
END:VTIMEZONE
BEGIN:VEVENT
DTSTART:20260113T150000
DTEND:20260113T160000
DTSTAMP:20260422T000059
UID:287d947c0a000043418758f2131d0cbc
CREATED:20251216T104757
DESCRIPTION:Research Smartz is a CWU Libraries series of workshops intende
 d to provide academic tools and life hacks. They are offered online on a q
 uarterly basis.
LAST-MODIFIED:20251216T104757
SEQUENCE:0
STATUS:CONFIRMED
SUMMARY:Research Smartz: Leveraging Your Microsoft Office Access
TRANSP:OPAQUE
END:VEVENT
END:VCALENDAR
